BEGIN:VCALENDAR
VERSION:2.0
PRODID:-//The Curious Little Playhouse - ECPv6.15.20//NONSGML v1.0//EN
CALSCALE:GREGORIAN
METHOD:PUBLISH
X-WR-CALNAME:The Curious Little Playhouse
X-ORIGINAL-URL:https://curiouslittleplayhouse.com
X-WR-CALDESC:Events for The Curious Little Playhouse
REFRESH-INTERVAL;VALUE=DURATION:PT1H
X-Robots-Tag:noindex
X-PUBLISHED-TTL:PT1H
BEGIN:VTIMEZONE
TZID:America/New_York
BEGIN:DAYLIGHT
TZOFFSETFROM:-0500
TZOFFSETTO:-0400
TZNAME:EDT
DTSTART:20240310T070000
END:DAYLIGHT
BEGIN:STANDARD
TZOFFSETFROM:-0400
TZOFFSETTO:-0500
TZNAME:EST
DTSTART:20241103T060000
END:STANDARD
BEGIN:DAYLIGHT
TZOFFSETFROM:-0500
TZOFFSETTO:-0400
TZNAME:EDT
DTSTART:20250309T070000
END:DAYLIGHT
BEGIN:STANDARD
TZOFFSETFROM:-0400
TZOFFSETTO:-0500
TZNAME:EST
DTSTART:20251102T060000
END:STANDARD
BEGIN:DAYLIGHT
TZOFFSETFROM:-0500
TZOFFSETTO:-0400
TZNAME:EDT
DTSTART:20260308T070000
END:DAYLIGHT
BEGIN:STANDARD
TZOFFSETFROM:-0400
TZOFFSETTO:-0500
TZNAME:EST
DTSTART:20261101T060000
END:STANDARD
END:VTIMEZONE
BEGIN:VEVENT
DTSTART;TZID=America/New_York:20251108T160000
DTEND;TZID=America/New_York:20251108T180000
DTSTAMP:20260423T193648
CREATED:20251020T211838Z
LAST-MODIFIED:20251020T211851Z
UID:5003130-1762617600-1762624800@curiouslittleplayhouse.com
SUMMARY:Andrew
DESCRIPTION:We wish Andrew a very happy birthday!
URL:https://curiouslittleplayhouse.com/event/andrew/
LOCATION:Curious Little Playhouse\, 1000 Carlisle St. #1225\, Hanover\, PA\, 17331\, United States
CATEGORIES:Birthday Parties
ATTACH;FMTTYPE=image/png:https://curiouslittleplayhouse.com/wp-content/uploads/2025/10/Birthday-Party-10.png
ORGANIZER;CN="The Curious Little Playhouse":MAILTO:playhouseyork@gmail.com
END:VEVENT
END:VCALENDAR