BEGIN:VCALENDAR
VERSION:2.0
PRODID:-//The Curious Little Playhouse - ECPv6.15.20//NONSGML v1.0//EN
CALSCALE:GREGORIAN
METHOD:PUBLISH
X-ORIGINAL-URL:https://curiouslittleplayhouse.com
X-WR-CALDESC:Events for The Curious Little Playhouse
REFRESH-INTERVAL;VALUE=DURATION:PT1H
X-Robots-Tag:noindex
X-PUBLISHED-TTL:PT1H
BEGIN:VTIMEZONE
TZID:America/New_York
BEGIN:DAYLIGHT
TZOFFSETFROM:-0500
TZOFFSETTO:-0400
TZNAME:EDT
DTSTART:20250309T070000
END:DAYLIGHT
BEGIN:STANDARD
TZOFFSETFROM:-0400
TZOFFSETTO:-0500
TZNAME:EST
DTSTART:20251102T060000
END:STANDARD
BEGIN:DAYLIGHT
TZOFFSETFROM:-0500
TZOFFSETTO:-0400
TZNAME:EDT
DTSTART:20260308T070000
END:DAYLIGHT
BEGIN:STANDARD
TZOFFSETFROM:-0400
TZOFFSETTO:-0500
TZNAME:EST
DTSTART:20261101T060000
END:STANDARD
BEGIN:DAYLIGHT
TZOFFSETFROM:-0500
TZOFFSETTO:-0400
TZNAME:EDT
DTSTART:20270314T070000
END:DAYLIGHT
BEGIN:STANDARD
TZOFFSETFROM:-0400
TZOFFSETTO:-0500
TZNAME:EST
DTSTART:20271107T060000
END:STANDARD
END:VTIMEZONE
BEGIN:VEVENT
DTSTART;TZID=America/New_York:20260103T140000
DTEND;TZID=America/New_York:20260103T160000
DTSTAMP:20260423T072943
CREATED:20251214T210035Z
LAST-MODIFIED:20251214T210035Z
UID:5003329-1767448800-1767456000@curiouslittleplayhouse.com
SUMMARY:Olive
DESCRIPTION:We wish Olive a very Happy Birthday!
URL:https://curiouslittleplayhouse.com/event/olive/
LOCATION:Curious Little Playhouse\, 1000 Carlisle St. #1225\, Hanover\, PA\, 17331\, United States
CATEGORIES:Birthday Parties
ATTACH;FMTTYPE=image/png:https://curiouslittleplayhouse.com/wp-content/uploads/2025/12/Olive-Light-Pink-White.png
ORGANIZER;CN="The Curious Little Playhouse":MAILTO:playhouseyork@gmail.com
END:VEVENT
BEGIN:VEVENT
DTSTART;TZID=America/New_York:20260103T160000
DTEND;TZID=America/New_York:20260103T180000
DTSTAMP:20260423T072943
CREATED:20251214T204819Z
LAST-MODIFIED:20251214T204819Z
UID:5003321-1767456000-1767463200@curiouslittleplayhouse.com
SUMMARY:Tommy
DESCRIPTION:We wish Tommy a very Happy Birthday!
URL:https://curiouslittleplayhouse.com/event/tommy/
LOCATION:Curious Little Playhouse\, 1000 Carlisle St. #1225\, Hanover\, PA\, 17331\, United States
CATEGORIES:Birthday Parties
ATTACH;FMTTYPE=image/png:https://curiouslittleplayhouse.com/wp-content/uploads/2025/12/Tommy-Black-Lime-Green.png
ORGANIZER;CN="The Curious Little Playhouse":MAILTO:playhouseyork@gmail.com
END:VEVENT
END:VCALENDAR