BEGIN:VCALENDAR
VERSION:2.0
PRODID:-//The Curious Little Playhouse - ECPv6.15.20//NONSGML v1.0//EN
CALSCALE:GREGORIAN
METHOD:PUBLISH
X-WR-CALNAME:The Curious Little Playhouse
X-ORIGINAL-URL:https://curiouslittleplayhouse.com
X-WR-CALDESC:Events for The Curious Little Playhouse
REFRESH-INTERVAL;VALUE=DURATION:PT1H
X-Robots-Tag:noindex
X-PUBLISHED-TTL:PT1H
BEGIN:VTIMEZONE
TZID:America/New_York
BEGIN:DAYLIGHT
TZOFFSETFROM:-0500
TZOFFSETTO:-0400
TZNAME:EDT
DTSTART:20250309T070000
END:DAYLIGHT
BEGIN:STANDARD
TZOFFSETFROM:-0400
TZOFFSETTO:-0500
TZNAME:EST
DTSTART:20251102T060000
END:STANDARD
BEGIN:DAYLIGHT
TZOFFSETFROM:-0500
TZOFFSETTO:-0400
TZNAME:EDT
DTSTART:20260308T070000
END:DAYLIGHT
BEGIN:STANDARD
TZOFFSETFROM:-0400
TZOFFSETTO:-0500
TZNAME:EST
DTSTART:20261101T060000
END:STANDARD
BEGIN:DAYLIGHT
TZOFFSETFROM:-0500
TZOFFSETTO:-0400
TZNAME:EDT
DTSTART:20270314T070000
END:DAYLIGHT
BEGIN:STANDARD
TZOFFSETFROM:-0400
TZOFFSETTO:-0500
TZNAME:EST
DTSTART:20271107T060000
END:STANDARD
END:VTIMEZONE
BEGIN:VEVENT
DTSTART;TZID=America/New_York:20260214T140000
DTEND;TZID=America/New_York:20260214T160000
DTSTAMP:20260423T075053
CREATED:20260104T215804Z
LAST-MODIFIED:20260104T215804Z
UID:5003388-1771077600-1771084800@curiouslittleplayhouse.com
SUMMARY:Selah
DESCRIPTION:We wish Selah a very Happy Birthday!
URL:https://curiouslittleplayhouse.com/event/selah/
LOCATION:Curious Little Playhouse\, 1000 Carlisle St. #1225\, Hanover\, PA\, 17331\, United States
CATEGORIES:Birthday Parties
ATTACH;FMTTYPE=image/jpeg:https://curiouslittleplayhouse.com/wp-content/uploads/2026/01/Selah-LavenderDark-Purple.jpg
ORGANIZER;CN="The Curious Little Playhouse":MAILTO:playhouseyork@gmail.com
END:VEVENT
BEGIN:VEVENT
DTSTART;TZID=America/New_York:20260214T160000
DTEND;TZID=America/New_York:20260214T180000
DTSTAMP:20260423T075053
CREATED:20260125T223606Z
LAST-MODIFIED:20260125T223606Z
UID:5003468-1771084800-1771092000@curiouslittleplayhouse.com
SUMMARY:Bowen
DESCRIPTION:We wish Bowen a very Happy Birthday!
URL:https://curiouslittleplayhouse.com/event/bowen/
LOCATION:Curious Little Playhouse\, 1000 Carlisle St. #1225\, Hanover\, PA\, 17331\, United States
CATEGORIES:Birthday Parties
ATTACH;FMTTYPE=image/png:https://curiouslittleplayhouse.com/wp-content/uploads/2026/01/Green-and-Blue-Playful-Illustration-Birthday-Invitation-Instagram-Post.png
ORGANIZER;CN="The Curious Little Playhouse":MAILTO:playhouseyork@gmail.com
END:VEVENT
END:VCALENDAR