BEGIN:VCALENDAR
VERSION:2.0
PRODID:-//The Curious Little Playhouse - ECPv6.15.20//NONSGML v1.0//EN
CALSCALE:GREGORIAN
METHOD:PUBLISH
X-WR-CALNAME:The Curious Little Playhouse
X-ORIGINAL-URL:https://curiouslittleplayhouse.com
X-WR-CALDESC:Events for The Curious Little Playhouse
REFRESH-INTERVAL;VALUE=DURATION:PT1H
X-Robots-Tag:noindex
X-PUBLISHED-TTL:PT1H
BEGIN:VTIMEZONE
TZID:America/New_York
BEGIN:DAYLIGHT
TZOFFSETFROM:-0500
TZOFFSETTO:-0400
TZNAME:EDT
DTSTART:20250309T070000
END:DAYLIGHT
BEGIN:STANDARD
TZOFFSETFROM:-0400
TZOFFSETTO:-0500
TZNAME:EST
DTSTART:20251102T060000
END:STANDARD
BEGIN:DAYLIGHT
TZOFFSETFROM:-0500
TZOFFSETTO:-0400
TZNAME:EDT
DTSTART:20260308T070000
END:DAYLIGHT
BEGIN:STANDARD
TZOFFSETFROM:-0400
TZOFFSETTO:-0500
TZNAME:EST
DTSTART:20261101T060000
END:STANDARD
BEGIN:DAYLIGHT
TZOFFSETFROM:-0500
TZOFFSETTO:-0400
TZNAME:EDT
DTSTART:20270314T070000
END:DAYLIGHT
BEGIN:STANDARD
TZOFFSETFROM:-0400
TZOFFSETTO:-0500
TZNAME:EST
DTSTART:20271107T060000
END:STANDARD
END:VTIMEZONE
BEGIN:VEVENT
DTSTART;TZID=America/New_York:20260509T100000
DTEND;TZID=America/New_York:20260509T120000
DTSTAMP:20260421T045316
CREATED:20260412T151055Z
LAST-MODIFIED:20260412T151055Z
UID:5003665-1778320800-1778328000@curiouslittleplayhouse.com
SUMMARY:Winnie
DESCRIPTION:Happy Birthday to Winnie!
URL:https://curiouslittleplayhouse.com/event/winnie/
LOCATION:Curious Little Playhouse\, 1000 Carlisle St. #1225\, Hanover\, PA\, 17331\, United States
CATEGORIES:Birthday Parties
ATTACH;FMTTYPE=image/jpeg:https://curiouslittleplayhouse.com/wp-content/uploads/2026/04/IMG_4714.jpg
ORGANIZER;CN="The Curious Little Playhouse":MAILTO:playhouseyork@gmail.com
END:VEVENT
BEGIN:VEVENT
DTSTART;TZID=America/New_York:20260509T140000
DTEND;TZID=America/New_York:20260509T160000
DTSTAMP:20260421T045316
CREATED:20260327T051000Z
LAST-MODIFIED:20260327T051000Z
UID:5003600-1778335200-1778342400@curiouslittleplayhouse.com
SUMMARY:Elisha
DESCRIPTION:Join us in celebrating Elisha!
URL:https://curiouslittleplayhouse.com/event/elisha/
CATEGORIES:Birthday Parties
ATTACH;FMTTYPE=image/png:https://curiouslittleplayhouse.com/wp-content/uploads/2026/03/Elisha-PinkLavender.png
END:VEVENT
BEGIN:VEVENT
DTSTART;TZID=America/New_York:20260516T140000
DTEND;TZID=America/New_York:20260516T170000
DTSTAMP:20260421T045316
CREATED:20260327T191046Z
LAST-MODIFIED:20260327T191046Z
UID:5003608-1778940000-1778950800@curiouslittleplayhouse.com
SUMMARY:Braxton
DESCRIPTION:Join us in celebrating Braxton!
URL:https://curiouslittleplayhouse.com/event/braxton/
CATEGORIES:Birthday Parties
ATTACH;FMTTYPE=image/png:https://curiouslittleplayhouse.com/wp-content/uploads/2026/03/Braxton-Disney-Cars.png
END:VEVENT
BEGIN:VEVENT
DTSTART;TZID=America/New_York:20260517T140000
DTEND;TZID=America/New_York:20260517T160000
DTSTAMP:20260421T045316
CREATED:20260412T150956Z
LAST-MODIFIED:20260412T150956Z
UID:5003664-1779026400-1779033600@curiouslittleplayhouse.com
SUMMARY:AJ
DESCRIPTION:Happy Birthday to AJ!
URL:https://curiouslittleplayhouse.com/event/aj/
LOCATION:Curious Little Playhouse\, 1000 Carlisle St. #1225\, Hanover\, PA\, 17331\, United States
CATEGORIES:Birthday Parties
ATTACH;FMTTYPE=image/jpeg:https://curiouslittleplayhouse.com/wp-content/uploads/2026/04/IMG_4713.jpg
ORGANIZER;CN="The Curious Little Playhouse":MAILTO:playhouseyork@gmail.com
END:VEVENT
BEGIN:VEVENT
DTSTART;TZID=America/New_York:20260614T140000
DTEND;TZID=America/New_York:20260614T160000
DTSTAMP:20260421T045317
CREATED:20260412T151244Z
LAST-MODIFIED:20260412T151244Z
UID:5003667-1781445600-1781452800@curiouslittleplayhouse.com
SUMMARY:Charlotte
DESCRIPTION:Happy Birthday to Charlotte!
URL:https://curiouslittleplayhouse.com/event/charlotte/
LOCATION:Curious Little Playhouse\, 1000 Carlisle St. #1225\, Hanover\, PA\, 17331\, United States
CATEGORIES:Birthday Parties
ATTACH;FMTTYPE=image/jpeg:https://curiouslittleplayhouse.com/wp-content/uploads/2026/04/IMG_4716.jpg
ORGANIZER;CN="The Curious Little Playhouse":MAILTO:playhouseyork@gmail.com
END:VEVENT
BEGIN:VEVENT
DTSTART;TZID=America/New_York:20260712T140000
DTEND;TZID=America/New_York:20260712T170000
DTSTAMP:20260421T045317
CREATED:20260412T150858Z
LAST-MODIFIED:20260412T150858Z
UID:5003658-1783864800-1783875600@curiouslittleplayhouse.com
SUMMARY:Everleigh & Ryder
DESCRIPTION:Happy Birthday to Everleigh & Ryder!
URL:https://curiouslittleplayhouse.com/event/everleigh-ryder/
LOCATION:Curious Little Playhouse\, 1000 Carlisle St. #1225\, Hanover\, PA\, 17331\, United States
CATEGORIES:Birthday Parties
ATTACH;FMTTYPE=image/jpeg:https://curiouslittleplayhouse.com/wp-content/uploads/2026/04/IMG_4712.jpg
ORGANIZER;CN="The Curious Little Playhouse":MAILTO:playhouseyork@gmail.com
END:VEVENT
BEGIN:VEVENT
DTSTART;TZID=America/New_York:20260725T140000
DTEND;TZID=America/New_York:20260725T160000
DTSTAMP:20260421T045317
CREATED:20260412T151535Z
LAST-MODIFIED:20260412T151535Z
UID:5003668-1784988000-1784995200@curiouslittleplayhouse.com
SUMMARY:Aylanis
DESCRIPTION:Happy Birthday to Aylanis!
URL:https://curiouslittleplayhouse.com/event/aylanis/
LOCATION:Curious Little Playhouse\, 1000 Carlisle St. #1225\, Hanover\, PA\, 17331\, United States
CATEGORIES:Birthday Parties
ATTACH;FMTTYPE=image/jpeg:https://curiouslittleplayhouse.com/wp-content/uploads/2026/04/aylanis-disney-princess.jpg
ORGANIZER;CN="The Curious Little Playhouse":MAILTO:playhouseyork@gmail.com
END:VEVENT
END:VCALENDAR