BEGIN:VCALENDAR
VERSION:2.0
PRODID:-//The Curious Little Playhouse - ECPv6.15.20//NONSGML v1.0//EN
CALSCALE:GREGORIAN
METHOD:PUBLISH
X-WR-CALNAME:The Curious Little Playhouse
X-ORIGINAL-URL:https://curiouslittleplayhouse.com
X-WR-CALDESC:Events for The Curious Little Playhouse
REFRESH-INTERVAL;VALUE=DURATION:PT1H
X-Robots-Tag:noindex
X-PUBLISHED-TTL:PT1H
BEGIN:VTIMEZONE
TZID:America/New_York
BEGIN:DAYLIGHT
TZOFFSETFROM:-0500
TZOFFSETTO:-0400
TZNAME:EDT
DTSTART:20240310T070000
END:DAYLIGHT
BEGIN:STANDARD
TZOFFSETFROM:-0400
TZOFFSETTO:-0500
TZNAME:EST
DTSTART:20241103T060000
END:STANDARD
BEGIN:DAYLIGHT
TZOFFSETFROM:-0500
TZOFFSETTO:-0400
TZNAME:EDT
DTSTART:20250309T070000
END:DAYLIGHT
BEGIN:STANDARD
TZOFFSETFROM:-0400
TZOFFSETTO:-0500
TZNAME:EST
DTSTART:20251102T060000
END:STANDARD
BEGIN:DAYLIGHT
TZOFFSETFROM:-0500
TZOFFSETTO:-0400
TZNAME:EDT
DTSTART:20260308T070000
END:DAYLIGHT
BEGIN:STANDARD
TZOFFSETFROM:-0400
TZOFFSETTO:-0500
TZNAME:EST
DTSTART:20261101T060000
END:STANDARD
END:VTIMEZONE
BEGIN:VEVENT
DTSTART;TZID=America/New_York:20251214T110000
DTEND;TZID=America/New_York:20251214T130000
DTSTAMP:20260423T151507
CREATED:20251117T173345Z
LAST-MODIFIED:20251122T201630Z
UID:5003201-1765710000-1765717200@curiouslittleplayhouse.com
SUMMARY:Oliver
DESCRIPTION:We wish Oliver a very happy birthday!
URL:https://curiouslittleplayhouse.com/event/oliver/
LOCATION:Curious Little Playhouse\, 1000 Carlisle St. #1225\, Hanover\, PA\, 17331\, United States
CATEGORIES:Birthday Parties
ATTACH;FMTTYPE=image/png:https://curiouslittleplayhouse.com/wp-content/uploads/2025/11/Birthday-Party.png
ORGANIZER;CN="The Curious Little Playhouse":MAILTO:playhouseyork@gmail.com
END:VEVENT
BEGIN:VEVENT
DTSTART;TZID=America/New_York:20251213T180000
DTEND;TZID=America/New_York:20251213T200000
DTSTAMP:20260423T151507
CREATED:20251119T224349Z
LAST-MODIFIED:20251119T224349Z
UID:5003227-1765648800-1765656000@curiouslittleplayhouse.com
SUMMARY:Rhiannon
DESCRIPTION:We wish Rhiannon a very happy birthday!
URL:https://curiouslittleplayhouse.com/event/rhiannon/
LOCATION:Curious Little Playhouse\, 1000 Carlisle St. #1225\, Hanover\, PA\, 17331\, United States
CATEGORIES:Birthday Parties
ATTACH;FMTTYPE=image/png:https://curiouslittleplayhouse.com/wp-content/uploads/2025/11/Birthday-Party-19.png
ORGANIZER;CN="The Curious Little Playhouse":MAILTO:playhouseyork@gmail.com
END:VEVENT
BEGIN:VEVENT
DTSTART;TZID=America/New_York:20251213T140000
DTEND;TZID=America/New_York:20251213T170000
DTSTAMP:20260423T151507
CREATED:20251119T223502Z
LAST-MODIFIED:20251119T223502Z
UID:5003225-1765634400-1765645200@curiouslittleplayhouse.com
SUMMARY:Audrey
DESCRIPTION:We wish Audrey a very happy birthday!
URL:https://curiouslittleplayhouse.com/event/audrey/
LOCATION:Curious Little Playhouse\, 1000 Carlisle St. #1225\, Hanover\, PA\, 17331\, United States
CATEGORIES:Birthday Parties
ATTACH;FMTTYPE=image/png:https://curiouslittleplayhouse.com/wp-content/uploads/2025/11/Birthday-Party-18.png
ORGANIZER;CN="The Curious Little Playhouse":MAILTO:playhouseyork@gmail.com
END:VEVENT
BEGIN:VEVENT
DTSTART;TZID=America/New_York:20251213T120000
DTEND;TZID=America/New_York:20251213T140000
DTSTAMP:20260423T151507
CREATED:20251119T221128Z
LAST-MODIFIED:20251119T221128Z
UID:5003222-1765627200-1765634400@curiouslittleplayhouse.com
SUMMARY:Ora
DESCRIPTION:We wish Ora a very happy birthday!
URL:https://curiouslittleplayhouse.com/event/ora/
LOCATION:Curious Little Playhouse\, 1000 Carlisle St. #1225\, Hanover\, PA\, 17331\, United States
CATEGORIES:Birthday Parties
ATTACH;FMTTYPE=image/png:https://curiouslittleplayhouse.com/wp-content/uploads/2025/11/Birthday-Party-16.png
ORGANIZER;CN="The Curious Little Playhouse":MAILTO:playhouseyork@gmail.com
END:VEVENT
BEGIN:VEVENT
DTSTART;TZID=America/New_York:20251207T160000
DTEND;TZID=America/New_York:20251207T190000
DTSTAMP:20260423T151507
CREATED:20251119T220652Z
LAST-MODIFIED:20251119T220652Z
UID:5003220-1765123200-1765134000@curiouslittleplayhouse.com
SUMMARY:Ellie
DESCRIPTION:We wish Ellie a very happy birthday!
URL:https://curiouslittleplayhouse.com/event/ellie/
LOCATION:Curious Little Playhouse\, 1000 Carlisle St. #1225\, Hanover\, PA\, 17331\, United States
CATEGORIES:Birthday Parties
ATTACH;FMTTYPE=image/png:https://curiouslittleplayhouse.com/wp-content/uploads/2025/11/Birthday-Party-15.png
ORGANIZER;CN="The Curious Little Playhouse":MAILTO:playhouseyork@gmail.com
END:VEVENT
BEGIN:VEVENT
DTSTART;TZID=America/New_York:20251207T140000
DTEND;TZID=America/New_York:20251207T160000
DTSTAMP:20260423T151507
CREATED:20251119T220447Z
LAST-MODIFIED:20251119T220447Z
UID:5003218-1765116000-1765123200@curiouslittleplayhouse.com
SUMMARY:Emily
DESCRIPTION:We wish Emily a very happy birthday!
URL:https://curiouslittleplayhouse.com/event/emily/
LOCATION:Curious Little Playhouse\, 1000 Carlisle St. #1225\, Hanover\, PA\, 17331\, United States
CATEGORIES:Birthday Parties
ATTACH;FMTTYPE=image/png:https://curiouslittleplayhouse.com/wp-content/uploads/2025/11/Birthday-Party-14.png
ORGANIZER;CN="The Curious Little Playhouse":MAILTO:playhouseyork@gmail.com
END:VEVENT
BEGIN:VEVENT
DTSTART;TZID=America/New_York:20251206T180000
DTEND;TZID=America/New_York:20251206T200000
DTSTAMP:20260423T151507
CREATED:20251119T191257Z
LAST-MODIFIED:20251119T191257Z
UID:5003216-1765044000-1765051200@curiouslittleplayhouse.com
SUMMARY:Leah
DESCRIPTION:We wish Leah a very happy birthday!
URL:https://curiouslittleplayhouse.com/event/leah/
LOCATION:Curious Little Playhouse\, 1000 Carlisle St. #1225\, Hanover\, PA\, 17331\, United States
CATEGORIES:Birthday Parties
ATTACH;FMTTYPE=image/png:https://curiouslittleplayhouse.com/wp-content/uploads/2025/11/Birthday-Party-13.png
ORGANIZER;CN="The Curious Little Playhouse":MAILTO:playhouseyork@gmail.com
END:VEVENT
BEGIN:VEVENT
DTSTART;TZID=America/New_York:20251206T160000
DTEND;TZID=America/New_York:20251206T180000
DTSTAMP:20260423T151507
CREATED:20251119T180249Z
LAST-MODIFIED:20251119T180249Z
UID:5003214-1765036800-1765044000@curiouslittleplayhouse.com
SUMMARY:Madison
DESCRIPTION:We wish Madison a very happy birthday!
URL:https://curiouslittleplayhouse.com/event/madison/
LOCATION:Curious Little Playhouse\, 1000 Carlisle St. #1225\, Hanover\, PA\, 17331\, United States
CATEGORIES:Birthday Parties
ATTACH;FMTTYPE=image/png:https://curiouslittleplayhouse.com/wp-content/uploads/2025/11/Birthday-Party-12.png
ORGANIZER;CN="The Curious Little Playhouse":MAILTO:playhouseyork@gmail.com
END:VEVENT
BEGIN:VEVENT
DTSTART;TZID=America/New_York:20251206T140000
DTEND;TZID=America/New_York:20251206T160000
DTSTAMP:20260423T151507
CREATED:20251119T180025Z
LAST-MODIFIED:20251119T180025Z
UID:5003210-1765029600-1765036800@curiouslittleplayhouse.com
SUMMARY:Sophia
DESCRIPTION:We wish Sophia a very happy birthday!
URL:https://curiouslittleplayhouse.com/event/sophia/
LOCATION:Curious Little Playhouse\, 1000 Carlisle St. #1225\, Hanover\, PA\, 17331\, United States
CATEGORIES:Birthday Parties
ATTACH;FMTTYPE=image/png:https://curiouslittleplayhouse.com/wp-content/uploads/2025/11/Birthday-Party-10.png
ORGANIZER;CN="The Curious Little Playhouse":MAILTO:playhouseyork@gmail.com
END:VEVENT
BEGIN:VEVENT
DTSTART;TZID=America/New_York:20251206T110000
DTEND;TZID=America/New_York:20251206T130000
DTSTAMP:20260423T151507
CREATED:20251119T180105Z
LAST-MODIFIED:20251119T221815Z
UID:5003212-1765018800-1765026000@curiouslittleplayhouse.com
SUMMARY:Brylee
DESCRIPTION:We wish Brylee a very happy birthday!
URL:https://curiouslittleplayhouse.com/event/brylee/
LOCATION:Curious Little Playhouse\, 1000 Carlisle St. #1225\, Hanover\, PA\, 17331\, United States
CATEGORIES:Birthday Parties
ATTACH;FMTTYPE=image/png:https://curiouslittleplayhouse.com/wp-content/uploads/2025/11/Birthday-Party-17.png
ORGANIZER;CN="The Curious Little Playhouse":MAILTO:playhouseyork@gmail.com
END:VEVENT
BEGIN:VEVENT
DTSTART;TZID=America/New_York:20251206T110000
DTEND;TZID=America/New_York:20251206T130000
DTSTAMP:20260423T151507
CREATED:20251119T174055Z
LAST-MODIFIED:20251119T174055Z
UID:5003208-1765018800-1765026000@curiouslittleplayhouse.com
SUMMARY:Riley
DESCRIPTION:We wish Riley a very happy birthday!
URL:https://curiouslittleplayhouse.com/event/riley-2/
LOCATION:Curious Little Playhouse\, 1000 Carlisle St. #1225\, Hanover\, PA\, 17331\, United States
CATEGORIES:Birthday Parties
ATTACH;FMTTYPE=image/png:https://curiouslittleplayhouse.com/wp-content/uploads/2025/11/Birthday-Party-7-1.png
ORGANIZER;CN="The Curious Little Playhouse":MAILTO:playhouseyork@gmail.com
END:VEVENT
BEGIN:VEVENT
DTSTART;TZID=America/New_York:20251129T120000
DTEND;TZID=America/New_York:20251129T140000
DTSTAMP:20260423T151507
CREATED:20251020T233801Z
LAST-MODIFIED:20251021T004151Z
UID:5003138-1764417600-1764424800@curiouslittleplayhouse.com
SUMMARY:Layla
DESCRIPTION:We wish Layla a very happy birthday!
URL:https://curiouslittleplayhouse.com/event/layla/
LOCATION:Curious Little Playhouse\, 1000 Carlisle St. #1225\, Hanover\, PA\, 17331\, United States
CATEGORIES:Birthday Parties
ATTACH;FMTTYPE=image/png:https://curiouslittleplayhouse.com/wp-content/uploads/2025/10/Birthday-Party-13.png
ORGANIZER;CN="The Curious Little Playhouse":MAILTO:playhouseyork@gmail.com
END:VEVENT
BEGIN:VEVENT
DTSTART;TZID=America/New_York:20251124T170000
DTEND;TZID=America/New_York:20251124T190000
DTSTAMP:20260423T151507
CREATED:20251020T233428Z
LAST-MODIFIED:20251021T004144Z
UID:5003136-1764003600-1764010800@curiouslittleplayhouse.com
SUMMARY:Jonathan
DESCRIPTION:We wish Jonathan a very happy birthday!
URL:https://curiouslittleplayhouse.com/event/jonathan/
LOCATION:Curious Little Playhouse\, 1000 Carlisle St. #1225\, Hanover\, PA\, 17331\, United States
CATEGORIES:Birthday Parties
ATTACH;FMTTYPE=image/png:https://curiouslittleplayhouse.com/wp-content/uploads/2025/10/Aiden-3.png
ORGANIZER;CN="The Curious Little Playhouse":MAILTO:playhouseyork@gmail.com
END:VEVENT
BEGIN:VEVENT
DTSTART;TZID=America/New_York:20251115T140000
DTEND;TZID=America/New_York:20251115T160000
DTSTAMP:20260423T151507
CREATED:20251020T212957Z
LAST-MODIFIED:20251020T212957Z
UID:5003134-1763215200-1763222400@curiouslittleplayhouse.com
SUMMARY:Lillian
DESCRIPTION:We wish Lillian a very happy birthday!
URL:https://curiouslittleplayhouse.com/event/lillian/
LOCATION:Curious Little Playhouse\, 1000 Carlisle St. #1225\, Hanover\, PA\, 17331\, United States
CATEGORIES:Birthday Parties
ATTACH;FMTTYPE=image/png:https://curiouslittleplayhouse.com/wp-content/uploads/2025/10/Birthday-Party-12.png
ORGANIZER;CN="The Curious Little Playhouse":MAILTO:playhouseyork@gmail.com
END:VEVENT
BEGIN:VEVENT
DTSTART;TZID=America/New_York:20251109T170000
DTEND;TZID=America/New_York:20251109T190000
DTSTAMP:20260423T151507
CREATED:20251020T212729Z
LAST-MODIFIED:20251020T212744Z
UID:5003132-1762707600-1762714800@curiouslittleplayhouse.com
SUMMARY:Faye
DESCRIPTION:We wish Faye a very happy birthday!
URL:https://curiouslittleplayhouse.com/event/faye/
LOCATION:Curious Little Playhouse\, 1000 Carlisle St. #1225\, Hanover\, PA\, 17331\, United States
CATEGORIES:Birthday Parties
ATTACH;FMTTYPE=image/png:https://curiouslittleplayhouse.com/wp-content/uploads/2025/10/Birthday-Party-11.png
ORGANIZER;CN="The Curious Little Playhouse":MAILTO:playhouseyork@gmail.com
END:VEVENT
BEGIN:VEVENT
DTSTART;TZID=America/New_York:20251108T160000
DTEND;TZID=America/New_York:20251108T180000
DTSTAMP:20260423T151507
CREATED:20251020T211838Z
LAST-MODIFIED:20251020T211851Z
UID:5003130-1762617600-1762624800@curiouslittleplayhouse.com
SUMMARY:Andrew
DESCRIPTION:We wish Andrew a very happy birthday!
URL:https://curiouslittleplayhouse.com/event/andrew/
LOCATION:Curious Little Playhouse\, 1000 Carlisle St. #1225\, Hanover\, PA\, 17331\, United States
CATEGORIES:Birthday Parties
ATTACH;FMTTYPE=image/png:https://curiouslittleplayhouse.com/wp-content/uploads/2025/10/Birthday-Party-10.png
ORGANIZER;CN="The Curious Little Playhouse":MAILTO:playhouseyork@gmail.com
END:VEVENT
BEGIN:VEVENT
DTSTART;TZID=America/New_York:20251108T140000
DTEND;TZID=America/New_York:20251108T160000
DTSTAMP:20260423T151507
CREATED:20251020T172720Z
LAST-MODIFIED:20251020T172720Z
UID:5003128-1762610400-1762617600@curiouslittleplayhouse.com
SUMMARY:Emmett
DESCRIPTION:We wish Emmett a very happy birthday!
URL:https://curiouslittleplayhouse.com/event/emmett/
LOCATION:Curious Little Playhouse\, 1000 Carlisle St. #1225\, Hanover\, PA\, 17331\, United States
CATEGORIES:Birthday Parties
ATTACH;FMTTYPE=image/png:https://curiouslittleplayhouse.com/wp-content/uploads/2025/10/Birthday-Party-9.png
ORGANIZER;CN="The Curious Little Playhouse":MAILTO:playhouseyork@gmail.com
END:VEVENT
BEGIN:VEVENT
DTSTART;TZID=America/New_York:20251108T120000
DTEND;TZID=America/New_York:20251108T140000
DTSTAMP:20260423T151507
CREATED:20251020T172014Z
LAST-MODIFIED:20251020T172014Z
UID:5003125-1762603200-1762610400@curiouslittleplayhouse.com
SUMMARY:Tanner
DESCRIPTION:We wish Tanner a very happy birthday!
URL:https://curiouslittleplayhouse.com/event/tanner/
LOCATION:Curious Little Playhouse\, 1000 Carlisle St. #1225\, Hanover\, PA\, 17331\, United States
CATEGORIES:Birthday Parties
ATTACH;FMTTYPE=image/png:https://curiouslittleplayhouse.com/wp-content/uploads/2025/10/Birthday-Party-8.png
ORGANIZER;CN="The Curious Little Playhouse":MAILTO:playhouseyork@gmail.com
END:VEVENT
BEGIN:VEVENT
DTSTART;TZID=America/New_York:20251103T100000
DTEND;TZID=America/New_York:20251103T110000
DTSTAMP:20260423T151507
CREATED:20250924T130459Z
LAST-MODIFIED:20251021T180236Z
UID:5003083-1762164000-1762167600@curiouslittleplayhouse.com
SUMMARY:Music Class
DESCRIPTION:🎶✨ Music Mondays are back! ✨🎶 \nBring your little ones for a morning of songs\, instruments\, movement\, and so much fun with Ms. Deb! \n📅 Monday\, November 3rd🕙 10:00 AM✅ Included with admission \nLet’s make some music together – see you there!
URL:https://curiouslittleplayhouse.com/event/music-class/
LOCATION:Curious Little Playhouse\, 1000 Carlisle St. #1225\, Hanover\, PA\, 17331\, United States
CATEGORIES:Special Events
ATTACH;FMTTYPE=image/png:https://curiouslittleplayhouse.com/wp-content/uploads/2025/09/Music-Monday-2.png
ORGANIZER;CN="The Curious Little Playhouse":MAILTO:playhouseyork@gmail.com
END:VEVENT
BEGIN:VEVENT
DTSTART;TZID=America/New_York:20251102T110000
DTEND;TZID=America/New_York:20251102T130000
DTSTAMP:20260423T151507
CREATED:20251020T171738Z
LAST-MODIFIED:20251020T171738Z
UID:5003123-1762081200-1762088400@curiouslittleplayhouse.com
SUMMARY:Ledger
DESCRIPTION:We wish Ledger a very happy birthday!
URL:https://curiouslittleplayhouse.com/event/ledger/
LOCATION:Curious Little Playhouse\, 1000 Carlisle St. #1225\, Hanover\, PA\, 17331\, United States
CATEGORIES:Birthday Parties
ATTACH;FMTTYPE=image/png:https://curiouslittleplayhouse.com/wp-content/uploads/2025/10/Aiden-2.png
ORGANIZER;CN="The Curious Little Playhouse":MAILTO:playhouseyork@gmail.com
END:VEVENT
BEGIN:VEVENT
DTSTART;TZID=America/New_York:20251102T100000
DTEND;TZID=America/New_York:20251102T120000
DTSTAMP:20260423T151507
CREATED:20251020T171407Z
LAST-MODIFIED:20251020T171407Z
UID:5003121-1762077600-1762084800@curiouslittleplayhouse.com
SUMMARY:John
DESCRIPTION:We wish John a very happy birthday!
URL:https://curiouslittleplayhouse.com/event/john/
LOCATION:Curious Little Playhouse\, 1000 Carlisle St. #1225\, Hanover\, PA\, 17331\, United States
CATEGORIES:Birthday Parties
ATTACH;FMTTYPE=image/png:https://curiouslittleplayhouse.com/wp-content/uploads/2025/10/Birthday-Party-7.png
ORGANIZER;CN="The Curious Little Playhouse":MAILTO:playhouseyork@gmail.com
END:VEVENT
BEGIN:VEVENT
DTSTART;TZID=America/New_York:20251101T160000
DTEND;TZID=America/New_York:20251101T180000
DTSTAMP:20260423T151507
CREATED:20250919T232015Z
LAST-MODIFIED:20250919T232015Z
UID:5003069-1762012800-1762020000@curiouslittleplayhouse.com
SUMMARY:Eloise
DESCRIPTION:We wish Eloise a very happy birthday!
URL:https://curiouslittleplayhouse.com/event/eloise/
LOCATION:Curious Little Playhouse\, 1000 Carlisle St. #1225\, Hanover\, PA\, 17331\, United States
CATEGORIES:Birthday Parties
ATTACH;FMTTYPE=image/png:https://curiouslittleplayhouse.com/wp-content/uploads/2025/09/Karis-Rose‘s-Birthday-Party.png
ORGANIZER;CN="The Curious Little Playhouse":MAILTO:playhouseyork@gmail.com
END:VEVENT
BEGIN:VEVENT
DTSTART;TZID=America/New_York:20251031T170000
DTEND;TZID=America/New_York:20251031T190000
DTSTAMP:20260423T151507
CREATED:20251021T175926Z
LAST-MODIFIED:20251021T180010Z
UID:5003148-1761930000-1761937200@curiouslittleplayhouse.com
SUMMARY:Trick or Treat at the Playhouse!
DESCRIPTION:🎃 Trick-or-Treat Play Day is here! 👻 \nCome dressed in your costume and enjoy:🍬 Free snacks 🎁 A bonus prize for every kid in costume! \nPLUS from 5–7 PM\, we’ll have extra giveaways + fun trinkets you won’t want to miss! \n✨ Come play\, explore\, and make magical Halloween memories — all included with your regular admission!
URL:https://curiouslittleplayhouse.com/event/trick-or-treat-at-the-playhouse/
LOCATION:Curious Little Playhouse\, 1000 Carlisle St. #1225\, Hanover\, PA\, 17331\, United States
CATEGORIES:Special Events
ATTACH;FMTTYPE=image/png:https://curiouslittleplayhouse.com/wp-content/uploads/2025/10/Homepage-Posts-1920-x-1080-px-3.png
ORGANIZER;CN="The Curious Little Playhouse":MAILTO:playhouseyork@gmail.com
END:VEVENT
BEGIN:VEVENT
DTSTART;TZID=America/New_York:20251025T160000
DTEND;TZID=America/New_York:20251025T190000
DTSTAMP:20260423T151507
CREATED:20250919T231041Z
LAST-MODIFIED:20251020T170436Z
UID:5003067-1761408000-1761418800@curiouslittleplayhouse.com
SUMMARY:Gwen
DESCRIPTION:We wish Gwen a very happy birthday!
URL:https://curiouslittleplayhouse.com/event/gwen/
LOCATION:Curious Little Playhouse\, 1000 Carlisle St. #1225\, Hanover\, PA\, 17331\, United States
CATEGORIES:Birthday Parties
ATTACH;FMTTYPE=image/png:https://curiouslittleplayhouse.com/wp-content/uploads/2025/09/Birthday-Party-6-1.png
ORGANIZER;CN="The Curious Little Playhouse":MAILTO:playhouseyork@gmail.com
END:VEVENT
BEGIN:VEVENT
DTSTART;VALUE=DATE:20251024
DTEND;VALUE=DATE:20251025
DTSTAMP:20260423T151507
CREATED:20250923T165309Z
LAST-MODIFIED:20250923T165309Z
UID:5003075-1761264000-1761350399@curiouslittleplayhouse.com
SUMMARY:Adopt a Boo
DESCRIPTION:Come adopt your very own Ghost Stuffy! These cuties are excited to meet you and partake in the Halloween fun!\n\nKiddos will get to enjoy: Personalizing a Fun Adoption Certificate Yummy snacks and drinks! Mini Busy Box\n\nAdopt a Boo will take place while supplies last!\n\nPre-purchase adoption here: https://checkout.square.site/buy/55LAMYQR33E6ORUDYU6JLJZJ\n\nAdmission separate cost.
URL:https://curiouslittleplayhouse.com/event/adopt-a-boo/
LOCATION:Curious Little Playhouse\, 1000 Carlisle St. #1225\, Hanover\, PA\, 17331\, United States
CATEGORIES:Special Events
ATTACH;FMTTYPE=image/png:https://curiouslittleplayhouse.com/wp-content/uploads/2025/09/Adopt-Facebook-Post-1.png
ORGANIZER;CN="The Curious Little Playhouse":MAILTO:playhouseyork@gmail.com
END:VEVENT
BEGIN:VEVENT
DTSTART;TZID=America/New_York:20251012T140000
DTEND;TZID=America/New_York:20251012T160000
DTSTAMP:20260423T151507
CREATED:20250919T230144Z
LAST-MODIFIED:20250919T230144Z
UID:5003066-1760277600-1760284800@curiouslittleplayhouse.com
SUMMARY:Riley
DESCRIPTION:We wish Riley a very happy birthday!
URL:https://curiouslittleplayhouse.com/event/riley/
LOCATION:Curious Little Playhouse\, 1000 Carlisle St. #1225\, Hanover\, PA\, 17331\, United States
CATEGORIES:Birthday Parties
ATTACH;FMTTYPE=image/png:https://curiouslittleplayhouse.com/wp-content/uploads/2025/09/Birthday-Party-10.png
ORGANIZER;CN="The Curious Little Playhouse":MAILTO:playhouseyork@gmail.com
END:VEVENT
BEGIN:VEVENT
DTSTART;TZID=America/New_York:20251011T160000
DTEND;TZID=America/New_York:20251011T190000
DTSTAMP:20260423T151507
CREATED:20250919T234527Z
LAST-MODIFIED:20250919T234527Z
UID:5003071-1760198400-1760209200@curiouslittleplayhouse.com
SUMMARY:Ekvira
DESCRIPTION:We wish Ekvira a very happy birthday!
URL:https://curiouslittleplayhouse.com/event/ekvira/
LOCATION:Curious Little Playhouse\, 1000 Carlisle St. #1225\, Hanover\, PA\, 17331\, United States
CATEGORIES:Birthday Parties
ATTACH;FMTTYPE=image/png:https://curiouslittleplayhouse.com/wp-content/uploads/2025/09/Birthday-Party-12.png
ORGANIZER;CN="The Curious Little Playhouse":MAILTO:playhouseyork@gmail.com
END:VEVENT
BEGIN:VEVENT
DTSTART;TZID=America/New_York:20251011T140000
DTEND;TZID=America/New_York:20251011T160000
DTSTAMP:20260423T151507
CREATED:20250919T225625Z
LAST-MODIFIED:20250919T225625Z
UID:5003062-1760191200-1760198400@curiouslittleplayhouse.com
SUMMARY:Liliana
DESCRIPTION:We wish Liliana a very happy birthday!
URL:https://curiouslittleplayhouse.com/event/liliana/
LOCATION:Curious Little Playhouse\, 1000 Carlisle St. #1225\, Hanover\, PA\, 17331\, United States
CATEGORIES:Birthday Parties
ATTACH;FMTTYPE=image/png:https://curiouslittleplayhouse.com/wp-content/uploads/2025/09/Birthday-Party-9.png
ORGANIZER;CN="The Curious Little Playhouse":MAILTO:playhouseyork@gmail.com
END:VEVENT
BEGIN:VEVENT
DTSTART;TZID=America/New_York:20251011T120000
DTEND;TZID=America/New_York:20251011T140000
DTSTAMP:20260423T151507
CREATED:20250919T225018Z
LAST-MODIFIED:20250919T225018Z
UID:5003060-1760184000-1760191200@curiouslittleplayhouse.com
SUMMARY:Natalie
DESCRIPTION:We wish Natalie a very happy birthday!
URL:https://curiouslittleplayhouse.com/event/natalie/
LOCATION:Curious Little Playhouse\, 1000 Carlisle St. #1225\, Hanover\, PA\, 17331\, United States
CATEGORIES:Birthday Parties
ATTACH;FMTTYPE=image/png:https://curiouslittleplayhouse.com/wp-content/uploads/2025/09/Birthday-Party-8.png
ORGANIZER;CN="The Curious Little Playhouse":MAILTO:playhouseyork@gmail.com
END:VEVENT
BEGIN:VEVENT
DTSTART;TZID=America/New_York:20251011T100000
DTEND;TZID=America/New_York:20251011T120000
DTSTAMP:20260423T151507
CREATED:20250919T224341Z
LAST-MODIFIED:20250919T224341Z
UID:5003058-1760176800-1760184000@curiouslittleplayhouse.com
SUMMARY:Birthday Party for Letty
DESCRIPTION:We wish Letty a very happy birthday!
URL:https://curiouslittleplayhouse.com/event/birthday-party-for-letty/
LOCATION:Curious Little Playhouse\, 1000 Carlisle St. #1225\, Hanover\, PA\, 17331\, United States
CATEGORIES:Birthday Parties
ATTACH;FMTTYPE=image/png:https://curiouslittleplayhouse.com/wp-content/uploads/2025/09/Birthday-Party-6.png
ORGANIZER;CN="The Curious Little Playhouse":MAILTO:playhouseyork@gmail.com
END:VEVENT
END:VCALENDAR